BEGIN:VCALENDAR
VERSION:2.0
PRODID:-// - ECPv6.15.20//NONSGML v1.0//EN
CALSCALE:GREGORIAN
METHOD:PUBLISH
X-ORIGINAL-URL:https://wei.skillspass.com
X-WR-CALDESC:Events for 
REFRESH-INTERVAL;VALUE=DURATION:PT1H
X-Robots-Tag:noindex
X-PUBLISHED-TTL:PT1H
BEGIN:VTIMEZONE
TZID:UTC
BEGIN:STANDARD
TZOFFSETFROM:+0000
TZOFFSETTO:+0000
TZNAME:UTC
DTSTART:20250101T000000
END:STANDARD
END:VTIMEZONE
BEGIN:VEVENT
DTSTART;TZID=UTC:20260126T180000
DTEND;TZID=UTC:20260126T210000
DTSTAMP:20260419T143349
CREATED:20251212T175408Z
LAST-MODIFIED:20251212T175408Z
UID:1627-1769450400-1769461200@wei.skillspass.com
SUMMARY:Communications Skills for Leaders - Level I
DESCRIPTION:A strong desire to develop communication skills is essential for leaders. Communication Skills for Leaders Level 1 provides a comprehensive look into how to apply best practices in workplace communication\, allowing leaders to truly engage with their team. This program helps leaders develop the ability to recognize the non-verbal cues that accompany verbal communication\, actively listen to others in order to understand their point of view\, identify the four main communication styles\, recognize triangulation in the workplace and handle difficult conversations. Additionally\, we cover how to apply best practices in workplace communication for different generations\, allowing leaders to create a more inclusive and harmonious work environment. \n* As a foundational program\, this is a prerequisite for other programs including Transformational Leadership (Level I) \nA 40-hour course that runs same time\, same day for 10 weeks. Click here to register
URL:https://wei.skillspass.com/event/communications-skills-for-leaders-level-i-14/
LOCATION:Blk Women in Excellence
CATEGORIES:Virtual
END:VEVENT
BEGIN:VEVENT
DTSTART;TZID=UTC:20260126T180000
DTEND;TZID=UTC:20260126T213000
DTSTAMP:20260419T143349
CREATED:20251205T150438Z
LAST-MODIFIED:20251205T160303Z
UID:1593-1769450400-1769463000@wei.skillspass.com
SUMMARY:Content Marketing Using AI
DESCRIPTION:Revolutionize your content marketing strategy and propel your business to new heights with Content Marketing using AI. In this dynamic program you will plan your content marketing strategy\, define your audience\, learn effective differentiation strategies\, train ChatGPT as your assistant\, develop publishing plans for FaceBook and YouTube\, explore features in Canva to create enhanced visual content\, create lead magnets\, and understand the importance of effective email marketing. \nA 40-hour course that runs same time\, same day for 10 weeks. Click here to register
URL:https://wei.skillspass.com/event/content-marketing-using-ai-27/
LOCATION:Cape Breton Regional Chamber of Commerce
CATEGORIES:Virtual
END:VEVENT
END:VCALENDAR