BEGIN:VCALENDAR
VERSION:2.0
PRODID:-// - ECPv6.15.20//NONSGML v1.0//EN
CALSCALE:GREGORIAN
METHOD:PUBLISH
X-ORIGINAL-URL:https://wei.skillspass.com
X-WR-CALDESC:Events for 
REFRESH-INTERVAL;VALUE=DURATION:PT1H
X-Robots-Tag:noindex
X-PUBLISHED-TTL:PT1H
BEGIN:VTIMEZONE
TZID:UTC
BEGIN:STANDARD
TZOFFSETFROM:+0000
TZOFFSETTO:+0000
TZNAME:UTC
DTSTART:20230101T000000
END:STANDARD
END:VTIMEZONE
BEGIN:VEVENT
DTSTART;TZID=UTC:20240509T173000
DTEND;TZID=UTC:20240509T213000
DTSTAMP:20260422T222912
CREATED:20240419T170113Z
LAST-MODIFIED:20240419T185307Z
UID:1049-1715275800-1715290200@wei.skillspass.com
SUMMARY:Computerized Accounting for Quick Books – Level I
DESCRIPTION:Computerized Accounting (Level I) will show you how to take a manual accounting system and computerize it using Quickbooks accounting software. Starting with the basics of setting up a company\, you will learn how to create each main module (accounts receivable\, accounts payable\, and payroll) as well completing monthly bank reconciliations and year-end procedures. \nA 40-hour course that runs same time\, same day for 10 weeks. \n\n\n\n\n\n\n\n\n                    WEI.SkillsPass.com Form Submission – Spryfield Business CommissionNameEmailPhone NumberBusiness Name or EmployerSubmit Form
URL:https://wei.skillspass.com/event/computerized-accounting-for-quick-books-level-i-7/
LOCATION:Spryfield Business Commission
CATEGORIES:Virtual
END:VEVENT
END:VCALENDAR