BEGIN:VCALENDAR
VERSION:2.0
PRODID:-// - ECPv6.15.20//NONSGML v1.0//EN
CALSCALE:GREGORIAN
METHOD:PUBLISH
X-ORIGINAL-URL:https://wei.skillspass.com
X-WR-CALDESC:Events for 
REFRESH-INTERVAL;VALUE=DURATION:PT1H
X-Robots-Tag:noindex
X-PUBLISHED-TTL:PT1H
BEGIN:VTIMEZONE
TZID:UTC
BEGIN:STANDARD
TZOFFSETFROM:+0000
TZOFFSETTO:+0000
TZNAME:UTC
DTSTART:20230101T000000
END:STANDARD
END:VTIMEZONE
BEGIN:VEVENT
DTSTART;TZID=UTC:20240422T130000
DTEND;TZID=UTC:20240422T170000
DTSTAMP:20260422T224624
CREATED:20240419T170114Z
LAST-MODIFIED:20240423T130151Z
UID:1052-1713790800-1713805200@wei.skillspass.com
SUMMARY:Financial Fundamentals – Level I
DESCRIPTION:The fundamental program in the finance stream of Workplace Education Financial Fundamentals (Level I) is a must have for every business owner.\nStarting with key accounting terminology this program takes you step-by-step through the basics of the your business finances. By the end of the program you will understand bookkeeping basics\, be able to read\, analyze and make financial decisions based on your company’s financial statements as well as know what needs to be done to comply with government reporting requirements.  \nA 40-hour course that runs same time\, same day for 10 weeks. Click here to register
URL:https://wei.skillspass.com/event/financial-fundamentals-level-i-5/
LOCATION:Strait Area Chamber of Commerce
CATEGORIES:Virtual
END:VEVENT
BEGIN:VEVENT
DTSTART;TZID=UTC:20240422T173000
DTEND;TZID=UTC:20240422T213000
DTSTAMP:20260422T224624
CREATED:20240419T170115Z
LAST-MODIFIED:20240423T130157Z
UID:1054-1713807000-1713821400@wei.skillspass.com
SUMMARY:Computerized Accounting for Quick Books – Level I
DESCRIPTION:Computerized Accounting (Level I) will show you how to take a manual accounting system and computerize it using Quickbooks accounting software. Starting with the basics of setting up a company\, you will learn how to create each main module (accounts receivable\, accounts payable\, and payroll) as well completing monthly bank reconciliations and year-end procedures. \nA 40-hour course that runs same time\, same day for 10 weeks. Click here to register
URL:https://wei.skillspass.com/event/computerized-accounting-for-quick-books-level-i-8/
LOCATION:Cape Breton Regional Chamber of Commerce
CATEGORIES:Virtual
END:VEVENT
END:VCALENDAR