BEGIN:VCALENDAR
VERSION:2.0
PRODID:-// - ECPv6.15.20//NONSGML v1.0//EN
CALSCALE:GREGORIAN
METHOD:PUBLISH
X-ORIGINAL-URL:https://wei.skillspass.com
X-WR-CALDESC:Events for 
REFRESH-INTERVAL;VALUE=DURATION:PT1H
X-Robots-Tag:noindex
X-PUBLISHED-TTL:PT1H
BEGIN:VTIMEZONE
TZID:UTC
BEGIN:STANDARD
TZOFFSETFROM:+0000
TZOFFSETTO:+0000
TZNAME:UTC
DTSTART:20230101T000000
END:STANDARD
END:VTIMEZONE
BEGIN:VEVENT
DTSTART;TZID=UTC:20240420T090000
DTEND;TZID=UTC:20240420T130000
DTSTAMP:20260422T230144
CREATED:20240419T170113Z
LAST-MODIFIED:20240419T170113Z
UID:1050-1713603600-1713618000@wei.skillspass.com
SUMMARY:Professional Sales
DESCRIPTION:Professional Sales is a program dedicated to the sales component of the marketing strategy. Starting with identifying the key components of the sales cycle\, you will learn how to craft probing questions specifically for your company’s products/services. From here\, you’ll develop skills in anticipating and overcoming objections as well as confirming the sale. Through this process you’ll craft a sales pitch you can test in the marketplace and enhance your sales mindset.  \nA 40-hour course that runs same time\, same day for 10 weeks. Click here to register
URL:https://wei.skillspass.com/event/professional-sales-3/
LOCATION:Strait Area Chamber of Commerce
CATEGORIES:Virtual
END:VEVENT
END:VCALENDAR