BEGIN:VCALENDAR
VERSION:2.0
PRODID:-// - ECPv6.15.20//NONSGML v1.0//EN
CALSCALE:GREGORIAN
METHOD:PUBLISH
X-ORIGINAL-URL:https://wei.skillspass.com
X-WR-CALDESC:Events for 
REFRESH-INTERVAL;VALUE=DURATION:PT1H
X-Robots-Tag:noindex
X-PUBLISHED-TTL:PT1H
BEGIN:VTIMEZONE
TZID:UTC
BEGIN:STANDARD
TZOFFSETFROM:+0000
TZOFFSETTO:+0000
TZNAME:UTC
DTSTART:20230101T000000
END:STANDARD
END:VTIMEZONE
BEGIN:VEVENT
DTSTART;TZID=UTC:20240417T083000
DTEND;TZID=UTC:20240417T120000
DTSTAMP:20260422T211444
CREATED:20240401T163513Z
LAST-MODIFIED:20240423T130029Z
UID:919-1713342600-1713355200@wei.skillspass.com
SUMMARY:Excel – Level II
DESCRIPTION:Building on the concepts presented in Microsoft Excel (level I)\, this next level focuses on data analysis and reporting as well as integration\, dataflow\, and modifying databases using advance charting and customized formulas. You will also learn how to create pivot tables and charts.  \nA 40-hour course that runs same time\, same day for 10 weeks. Click here to register
URL:https://wei.skillspass.com/event/excel-level-ii/
LOCATION:CBDC NOBL Colchester
CATEGORIES:Virtual
END:VEVENT
BEGIN:VEVENT
DTSTART;TZID=UTC:20240417T083000
DTEND;TZID=UTC:20240417T123000
DTSTAMP:20260422T211444
CREATED:20240412T143009Z
LAST-MODIFIED:20240423T130036Z
UID:1026-1713342600-1713357000@wei.skillspass.com
SUMMARY:Communication Skills for Supervisors – Level I
DESCRIPTION:A supervisor’s ability to effectively communicate in the workplace is an essential skill for any successful organization. Supervisors must utilize communication to foster a positive working environment that encourages collaboration and success. Employees come from diverse backgrounds and have different levels of experience\, which may lead to clashes in personalities and communication styles. Supervisors must be adept at recognizing these differences and adapting their management style accordingly. They must also have strong interpersonal skills and be able to motivate and engage team members.\nCommunication Skills for Supervisors Level 1 offers supervisors the chance to learn practical\, real-world communication strategies that will help them be more successful in their role. From active listening techniques to providing effective feedback\, this program will equip supervisors with the skills they need to navigate any workplace communication scenario.\n\n* As a foundational program\, this is a prerequisite for other programs including Transformational Leadership (Level I) \nA 40-hour course that runs same time\, same day for 10 weeks. Click here to register
URL:https://wei.skillspass.com/event/communication-skills-for-supervisors-level-i/
LOCATION:Halifax Chamber of Commerce
CATEGORIES:Virtual
END:VEVENT
BEGIN:VEVENT
DTSTART;TZID=UTC:20240417T090000
DTEND;TZID=UTC:20240417T123000
DTSTAMP:20260422T211444
CREATED:20240412T143010Z
LAST-MODIFIED:20240916T151352Z
UID:1029-1713344400-1713357000@wei.skillspass.com
SUMMARY:Financial Fundamentals – Level I
DESCRIPTION:The fundamental program in the finance stream of Workplace Education Financial Fundamentals (Level I) is a must have for every business owner.\nStarting with key accounting terminology this program takes you step-by-step through the basics of the your business finances. By the end of the program you will understand bookkeeping basics\, be able to read\, analyze and make financial decisions based on your company’s financial statements as well as know what needs to be done to comply with government reporting requirements.  \nA 40-hour course that runs same time\, same day for 10 weeks. Click here to register
URL:https://wei.skillspass.com/event/financial-fundamentals-level-i-4/
LOCATION:Halifax Chamber of Commerce
CATEGORIES:Virtual
END:VEVENT
BEGIN:VEVENT
DTSTART;TZID=UTC:20240417T090000
DTEND;TZID=UTC:20240417T130000
DTSTAMP:20260422T211444
CREATED:20240412T143010Z
LAST-MODIFIED:20240423T130048Z
UID:1028-1713344400-1713358800@wei.skillspass.com
SUMMARY:Social Media for Business
DESCRIPTION:Social Media for Business (Level II) picks up from where level I left off. Starting with a review of your current social media strategy\, you will set new benchmarks and devise strategies for driving traffic to your website and social media platforms. In addition\, you will learn how to use live streaming to create better visibility as well as best practices for video creation\, content batching\, and analyzing your social media traffic. \nA 40-hour course that runs same time\, same day for 10 weeks. Click here to register
URL:https://wei.skillspass.com/event/social-media-for-business/
LOCATION:Halifax Chamber of Commerce
CATEGORIES:Virtual
END:VEVENT
BEGIN:VEVENT
DTSTART;TZID=UTC:20240417T173000
DTEND;TZID=UTC:20240417T213000
DTSTAMP:20260422T211444
CREATED:20240412T143013Z
LAST-MODIFIED:20240423T130055Z
UID:1033-1713375000-1713389400@wei.skillspass.com
SUMMARY:Business Skills
DESCRIPTION:Developed for small to medium-sized businesses Business Skills provides you with an overview and understanding of how to grow a strong and profitable business. \nIn this program you will learn how to prime your business\, strategically position your company\, develop a strategy that focuses on optimizing profit through pricing\, create a marketing strategy\, and assess priorities for business growth. \nA 40-hour course that runs same time\, same day for 10 weeks. Click here to register
URL:https://wei.skillspass.com/event/business-skills-3/
LOCATION:Strait Area Chamber of Commerce
CATEGORIES:Virtual
END:VEVENT
END:VCALENDAR