BEGIN:VCALENDAR
VERSION:2.0
PRODID:-// - ECPv6.15.20//NONSGML v1.0//EN
CALSCALE:GREGORIAN
METHOD:PUBLISH
X-ORIGINAL-URL:https://wei.skillspass.com
X-WR-CALDESC:Events for 
REFRESH-INTERVAL;VALUE=DURATION:PT1H
X-Robots-Tag:noindex
X-PUBLISHED-TTL:PT1H
BEGIN:VTIMEZONE
TZID:UTC
BEGIN:STANDARD
TZOFFSETFROM:+0000
TZOFFSETTO:+0000
TZNAME:UTC
DTSTART:20230101T000000
END:STANDARD
END:VTIMEZONE
BEGIN:VEVENT
DTSTART;TZID=UTC:20240415T083000
DTEND;TZID=UTC:20240415T123000
DTSTAMP:20260422T192119
CREATED:20240401T163512Z
LAST-MODIFIED:20240423T125607Z
UID:916-1713169800-1713184200@wei.skillspass.com
SUMMARY:IDEA Fundamentals
DESCRIPTION:IDEA Fundamentals is designed for leaders of organizations who want to explore and deepen their understanding of inclusion\, diversity\, equity\, and accessibility (IDEA) in the workplace. This training focuses on key concepts\, terminology\, and strategies for leaders to be able to create diverse and welcoming workplaces. This course is based in a Nova Scotian context\, focusing on inclusion strategies for persons with disabilities\, persons who identify as 2SLGBTQ+\, Indigenous Peoples and Mi’kmaq\, and Black and African Nova Scotians.\n \nCompletion of Communication Skills for Leaders or HR Essentials is required prior to enrolling in this program. \nA 40-hour course that runs same time\, same day for 10 weeks. Click here to register
URL:https://wei.skillspass.com/event/idea-fundamentals/
LOCATION:CBDC NOBL Colchester
CATEGORIES:Virtual
END:VEVENT
BEGIN:VEVENT
DTSTART;TZID=UTC:20240415T083000
DTEND;TZID=UTC:20240415T123000
DTSTAMP:20260422T192119
CREATED:20240401T164116Z
LAST-MODIFIED:20240423T131243Z
UID:949-1713169800-1713184200@wei.skillspass.com
SUMMARY:Proposal Writing
DESCRIPTION:Learn how to write a clear\, effective proposal. By learning about the standard components of proposals\, how to format a proposal\, how to create graphs and budgets\, and evaluate the effectiveness of your writing\, you’ll be positioned to craft proposals that get results. You’ll also learn about ethical persuasion\, reader-centred writing\, the role of effective evidence\, and how to overcome any barriers you may have with your writing.  \nA 40-hour course that runs same time\, same day for 10 weeks. \n\n\n\n\n                    WEI.SkillsPass.com Form Submission – Cape Breton Music Industry Cooperative (CB MIC)NameEmailPhone NumberBusiness Name or EmployerSubmit Form
URL:https://wei.skillspass.com/event/proposal-writing-3/
LOCATION:Cape Breton Music Industry Cooperative (CB MIC)
CATEGORIES:Virtual
END:VEVENT
BEGIN:VEVENT
DTSTART;TZID=UTC:20240415T123000
DTEND;TZID=UTC:20240415T163000
DTSTAMP:20260422T192119
CREATED:20240401T164116Z
LAST-MODIFIED:20240423T131258Z
UID:948-1713184200-1713198600@wei.skillspass.com
SUMMARY:Project Management
DESCRIPTION:Do you have a special project you want to tackle (updating your website\, automating your inventory\, reorganizing your filing cabinets\, moving locations\, or hosting an open house) and are not sure where to start? Are you heading a committee and want to ensure you meet your mandate with minimal hiccups and frustrations? Do you want your employees to have clear lines of communication and work effectively together to meet their targets on a shared initiative? Do you want the skills\, knowledge and confidence to make a project as successful as you know it can be? If you answered Yes to one or more of these questions\, Project Management Essentials would be a smart investment of your time. Many business people think Project Management training is only for those working in large companies who head huge projects. Not true! Project Management is an essential skill that every business person could benefit from\, understanding and applying inside their company every day.\nTopics include determining scope of the project and setting achievable goals\, creating target and timelines\, using Gantt chart\, risk assessment and creating a communication plan. \nA 40-hour course that runs same time\, same day for 10 weeks. \n\n\n\n\n                    WEI.SkillsPass.com Form Submission – Cape Breton Music Industry Cooperative (CB MIC)NameEmailPhone NumberBusiness Name or EmployerSubmit Form
URL:https://wei.skillspass.com/event/project-management/
LOCATION:Cape Breton Music Industry Cooperative (CB MIC)
CATEGORIES:Virtual
END:VEVENT
BEGIN:VEVENT
DTSTART;TZID=UTC:20240415T130000
DTEND;TZID=UTC:20240415T170000
DTSTAMP:20260422T192119
CREATED:20240401T163813Z
LAST-MODIFIED:20240423T131319Z
UID:936-1713186000-1713200400@wei.skillspass.com
SUMMARY:Financial Fundamentals – Level I
DESCRIPTION:The fundamental program in the finance stream of Workplace Education Financial Fundamentals (Level I) is a must have for every business owner.\nStarting with key accounting terminology this program takes you step-by-step through the basics of the your business finances. By the end of the program you will understand bookkeeping basics\, be able to read\, analyze and make financial decisions based on your company’s financial statements as well as know what needs to be done to comply with government reporting requirements.  \nA 40-hour course that runs same time\, same day for 10 weeks. Click here to register
URL:https://wei.skillspass.com/event/financial-fundamentals-level-i/
LOCATION:Strait Area Chamber of Commerce
CATEGORIES:Virtual
END:VEVENT
BEGIN:VEVENT
DTSTART;TZID=UTC:20240415T173000
DTEND;TZID=UTC:20240415T213000
DTSTAMP:20260422T192119
CREATED:20240401T163914Z
LAST-MODIFIED:20240423T125836Z
UID:942-1713202200-1713216600@wei.skillspass.com
SUMMARY:Computerized Accounting for Quick Books – Level I
DESCRIPTION:Computerized Accounting (Level I) will show you how to take a manual accounting system and computerize it using Quickbooks accounting software. Starting with the basics of setting up a company\, you will learn how to create each main module (accounts receivable\, accounts payable\, and payroll) as well completing monthly bank reconciliations and year-end procedures. \nA 40-hour course that runs same time\, same day for 10 weeks. Click here to register
URL:https://wei.skillspass.com/event/computerized-accounting-for-quick-books-level-i-3/
LOCATION:Cape Breton Regional Chamber of Commerce
CATEGORIES:Virtual
END:VEVENT
BEGIN:VEVENT
DTSTART;TZID=UTC:20240415T180000
DTEND;TZID=UTC:20240415T213000
DTSTAMP:20260422T192119
CREATED:20240412T143114Z
LAST-MODIFIED:20240916T151100Z
UID:1038-1713204000-1713216600@wei.skillspass.com
SUMMARY:Website Design
DESCRIPTION:If you have been wanting to know how to create and manage your own company’s website\, Website Design (Level I) has your answers. You’ll begin by exploring various website creation options and costs; and proceed step-by-step so that you will know how to go from idea to website launch. (Please note that this program does NOT include an ecommerce store.)  \nA 40-hour course that runs same time\, same day for 10 weeks. Click here to register
URL:https://wei.skillspass.com/event/website-design-2/
LOCATION:Strait Area Chamber of Commerce
CATEGORIES:Virtual
END:VEVENT
END:VCALENDAR