BEGIN:VCALENDAR
VERSION:2.0
PRODID:-// - ECPv6.15.20//NONSGML v1.0//EN
CALSCALE:GREGORIAN
METHOD:PUBLISH
X-ORIGINAL-URL:https://wei.skillspass.com
X-WR-CALDESC:Events for 
REFRESH-INTERVAL;VALUE=DURATION:PT1H
X-Robots-Tag:noindex
X-PUBLISHED-TTL:PT1H
BEGIN:VTIMEZONE
TZID:UTC
BEGIN:STANDARD
TZOFFSETFROM:+0000
TZOFFSETTO:+0000
TZNAME:UTC
DTSTART:20230101T000000
END:STANDARD
END:VTIMEZONE
BEGIN:VEVENT
DTSTART;TZID=UTC:20240411T083000
DTEND;TZID=UTC:20240411T120000
DTSTAMP:20260424T115844
CREATED:20240401T163515Z
LAST-MODIFIED:20240916T155858Z
UID:925-1712824200-1712836800@wei.skillspass.com
SUMMARY:Excel – Level I
DESCRIPTION:Save time by learning how to use Microsoft Excel more efficiently and effectively. Starting with how to build and use a spreadsheet this program provides you a hands on journey through many of the Excel tools and features. Templates\, formulas\, formatting\, customizing\, copying and pasting\, charts and graphs\, and keyboard shortcuts will help you spend less time frustrated by spreadsheets and more time growing your business.\n*Participants should have a working knowledge of a computer but previous Excel experience is not necessary. \nA 40-hour course that runs same time\, same day for 10 weeks. Click here to register
URL:https://wei.skillspass.com/event/excel-level-i/
CATEGORIES:Virtual
END:VEVENT
BEGIN:VEVENT
DTSTART;TZID=UTC:20240411T083000
DTEND;TZID=UTC:20240411T123000
DTSTAMP:20260424T115844
CREATED:20240401T163515Z
LAST-MODIFIED:20240916T155935Z
UID:924-1712824200-1712838600@wei.skillspass.com
SUMMARY:Content Marketing
DESCRIPTION:Focused on strategic decision making Content Marketing is for business owners who have a clear understanding of their ideal customer(s)\, where they are/want to be positioned in the marketplace\, and are committed to growing their online presence. In this program you will identify the current social media platforms best suited to your business\, develop appropriate content\, create a social media planner\, learn how to grow your audience and the importance of cultivating an email strategy\, how and where to go live\, how to organize all your content\, and how to measure & analyze engagement. A 40-hour course that runs same time\, same day for 10 weeks.Click here to register
URL:https://wei.skillspass.com/event/content-marketing/
CATEGORIES:Virtual
END:VEVENT
BEGIN:VEVENT
DTSTART;TZID=UTC:20240411T173000
DTEND;TZID=UTC:20240411T213000
DTSTAMP:20260424T115844
CREATED:20240405T133227Z
LAST-MODIFIED:20240423T125519Z
UID:988-1712856600-1712871000@wei.skillspass.com
SUMMARY:Computerized Accounting for Quick Books – Level I
DESCRIPTION:Computerized Accounting (Level I) will show you how to take a manual accounting system and computerize it using Quickbooks accounting software. Starting with the basics of setting up a company\, you will learn how to create each main module (accounts receivable\, accounts payable\, and payroll) as well completing monthly bank reconciliations and year-end procedures. \nA 40-hour course that runs same time\, same day for 10 weeks. Click here to register
URL:https://wei.skillspass.com/event/computerized-accounting-for-quick-books-level-i-5/
LOCATION:CBDC NOBL Pictou
CATEGORIES:Virtual
END:VEVENT
BEGIN:VEVENT
DTSTART;TZID=UTC:20240411T180000
DTEND;TZID=UTC:20240411T213000
DTSTAMP:20260424T115844
CREATED:20240401T163616Z
LAST-MODIFIED:20240423T131226Z
UID:926-1712858400-1712871000@wei.skillspass.com
SUMMARY:Content Marketing Using AI
DESCRIPTION:Revolutionize your content marketing strategy and propel your business to new heights with Content Marketing using AI. In this dynamic program you will plan your content marketing strategy\, define your audience\, learn effective differentiation strategies\, train ChatGPT as your assistant\, develop publishing plans for FaceBook and YouTube\, explore features in Canva to create enhanced visual content\, create lead magnets\, and understand the importance of effective email marketing. \nA 40-hour course that runs same time\, same day for 10 weeks. \n\n\n\n\n                    WEI.SkillsPass.com Form Submission – Sheet Harbour & Area Chamber of CommerceNameEmailPhone NumberBusiness Name or EmployerSubmit Form
URL:https://wei.skillspass.com/event/content-marketing-using-ai/
LOCATION:Sheet Harbour & Area Chamber of Commerce
CATEGORIES:Virtual
END:VEVENT
END:VCALENDAR